BEGIN:VCALENDAR
VERSION:2.0
PRODID:-//eventon.com NONSGML v1.0//EN
CALSCALE:GREGORIAN
METHOD:PUBLISH
BEGIN:VEVENT
UID:69e72f9cd0fe3
DTSTAMP:20260421T080444Z
DTSTART:20230306T170000Z
DTEND:20230309T010000Z
LOCATION:Paris Las Vegas
SUMMARY:MURTEC (Multi-Unit Restaurant Technology Conference)
DESCRIPTION:Restaurant technology moved swiftly from business enabler to op
 erational savior\,  as the pandemic forced the foodservice industry to inno
 vate overnight. In the wake of rapid digital transformation\,  MURTEC is he
 lping restaurants fully embrace the potential of new technologies.\nhttps:/
 /www.franchisespeakers.com/events/murtec-multi-unit-restaurant-technology-c
 onference/
URL:https://www.franchisespeakers.com/events/murtec-multi-unit-restaurant-technology-conference/
END:VEVENT
END:VCALENDAR