BEGIN:VCALENDAR
VERSION:2.0
PRODID:-//eventon.com NONSGML v1.0//EN
CALSCALE:GREGORIAN
METHOD:PUBLISH
BEGIN:VEVENT
UID:69e88b35438f4
DTSTAMP:20260422T084749Z
DTSTART:20230226T210000Z
DTEND:20230301T040000Z
LOCATION:Mandalay Convention Center
SUMMARY:IFA Annual Convention 2023
DESCRIPTION:IFA&#8217;s Annual Convention is franchising&#8217;s biggest ev
 ent for business development and personal growth. Whether you&#8217;re a fr
 anchising veteran or just starting out\,  there are sessions designed for e
 veryone. This is your chance to network and chart the future of the industr
 y.\nhttps://www.franchisespeakers.com/events/ifa-annual-convention-2023/
URL:https://www.franchisespeakers.com/events/ifa-annual-convention-2023/
END:VEVENT
END:VCALENDAR