BEGIN:VCALENDAR
VERSION:2.0
PRODID:-//eventon.com NONSGML v1.0//EN
CALSCALE:GREGORIAN
METHOD:PUBLISH
BEGIN:VEVENT
UID:69e740008da59
DTSTAMP:20260421T091440Z
DTSTART:20230908T140000Z
DTEND:20230909T200000Z
LOCATION:Greater Ft. Lauderdale Convention Center
SUMMARY:2023 MFV Franchise Expo South
DESCRIPTION:Welcome to Franchise Expo South At Franchise Expo South\,  the 
 hottest franchise brands and opportunities will be on display. Meet face-to
 -face with leading franchise brands in every industry\,  and across every i
 nvestment level\,  and see how you can become a small business owner. Explo
 re the comprehensive conference program led by[..]\nhttps://www.franchisesp
 eakers.com/events/2023-mfv-franchise-expo-south/
URL:https://www.franchisespeakers.com/events/2023-mfv-franchise-expo-south/
END:VEVENT
END:VCALENDAR