BEGIN:VCALENDAR
VERSION:2.0
PRODID:-//eventon.com NONSGML v1.0//EN
CALSCALE:GREGORIAN
METHOD:PUBLISH
BEGIN:VEVENT
UID:69e5e3af0e096
DTSTAMP:20260420T082831Z
DTSTART:20240530T140000Z
DTEND:20240601T200000Z
LOCATION:The Javits Center
SUMMARY:International Franchise Expo 2024
DESCRIPTION:The International Franchise Expo is the largest premier franchi
 se show in the U.S with a powerful international impact. Entrepreneurs and 
 prospective business owners from all 50 states and 120 countries travel to 
 the IFE to meet face-to-face with over 300+ exhibiting franchise brands and
  industry experts. Explore the many different[..]\nhttps://www.franchisespe
 akers.com/events/international-franchise-expo-2024/
URL:https://www.franchisespeakers.com/events/international-franchise-expo-2024/
END:VEVENT
END:VCALENDAR