BEGIN:VCALENDAR
VERSION:2.0
PRODID:-//eventon.com NONSGML v1.0//EN
CALSCALE:GREGORIAN
METHOD:PUBLISH
BEGIN:VEVENT
UID:69ec97f7f1de2
DTSTAMP:20260425T103119Z
DTSTART:20240928T150000Z
DTEND:20240929T210000Z
LOCATION:Philadelphia Convention Center
SUMMARY:The Franchise Show - Philadelphia\,  PA
DESCRIPTION:Come to Philadelphia&#8217;s Ultimate &#8220;Own Your Own Busin
 ess&#8221; Event! See the most successful franchises + brand new opportuni
 ties from every industry. 2 Days Only! Meet Face to Face with Proven Busine
 sses Proven\,  money making businesses that are now expanding in Philadelph
 ia are here to meet new potential owners. This is your[..]\nhttps://www.fra
 nchisespeakers.com/events/the-franchise-show-philadelphia-pa/
URL:https://www.franchisespeakers.com/events/the-franchise-show-philadelphia-pa/
END:VEVENT
END:VCALENDAR