BEGIN:VCALENDAR
VERSION:2.0
PRODID:-//eventon.com NONSGML v1.0//EN
CALSCALE:GREGORIAN
METHOD:PUBLISH
BEGIN:VEVENT
UID:69e6330e68b7a
DTSTAMP:20260420T140710Z
DTSTART:20241116T180000Z
DTEND:20241117T230000Z
LOCATION:BMO Centre
SUMMARY:The Franchise Show - Calgary\,  AB
DESCRIPTION:Come to the Largest “Own Your Own Business” Event in Calgar
 y! See the most successful franchises + brand new opportunities from every 
 industry. Your only opportunity to see and compare all your full and part
 -time business ownership options under one roof! – Save Hundreds of Hours
  of Research Time! 2 Days Only![..]\nhttps://www.franchisespeakers.com/even
 ts/the-franchise-show-calgary-ab/
URL:https://www.franchisespeakers.com/events/the-franchise-show-calgary-ab/
END:VEVENT
END:VCALENDAR