BEGIN:VCALENDAR
VERSION:2.0
PRODID:-//eventon.com NONSGML v1.0//EN
CALSCALE:GREGORIAN
METHOD:PUBLISH
BEGIN:VEVENT
UID:69e739bdc9234
DTSTAMP:20260421T084757Z
DTSTART:20260411T150000Z
DTEND:20260412T210000Z
LOCATION:Palais des congrès de Montréal 201 Viger Avenue West
SUMMARY:The National Franchise Show - Montreal\,  QC
DESCRIPTION:See the most successful franchises + brand new opportunities fr
 om every industry. 2 Days Only! Meet Face to Face with Proven Businesses Pr
 oven\,  money-making businesses that are now expanding in Montreal are here
  to meet new potential owners. This is your only opportunity to meet with t
 he hottest businesses face-to-face.[..]\nhttps://www.franchisespeakers.com/
 events/the-national-franchise-show-montreal-qc/
URL:https://www.franchisespeakers.com/events/the-national-franchise-show-montreal-qc/
END:VEVENT
END:VCALENDAR